BEGIN:VCALENDAR
VERSION:2.0
PRODID:spatie/icalendar-generator
NAME:Fraktographie: Datenbank und Symbolsprache
X-WR-CALNAME:Fraktographie: Datenbank und Symbolsprache
BEGIN:VTIMEZONE
TZID:Europe/Berlin
BEGIN:STANDARD
DTSTART:20251026T030000
TZOFFSETFROM:+0200
TZOFFSETTO:+0100
END:STANDARD
BEGIN:DAYLIGHT
DTSTART:20260329T010000
TZOFFSETFROM:+0100
TZOFFSETTO:+0200
END:DAYLIGHT
BEGIN:STANDARD
DTSTART:20261025T030000
TZOFFSETFROM:+0200
TZOFFSETTO:+0100
END:STANDARD
END:VTIMEZONE
BEGIN:VTIMEZONE
TZID:UTC
BEGIN:STANDARD
DTSTART:20250725T113257
TZOFFSETFROM:+0000
TZOFFSETTO:+0000
END:STANDARD
END:VTIMEZONE
BEGIN:VEVENT
UID:69e760693595a
DTSTAMP:20260421T113257Z
SUMMARY:Fraktographie: Datenbank und Symbolsprache
DESCRIPTION:https://dgm.de/akademie/events/fraktographie-datenbank-und-symb
 olsprache\nDGM-Akademie-Team\nakademie@dgm.de\n+49 (0)69 75306 760
LOCATION:Online
URL:https://dgm.de/akademie/events/fraktographie-datenbank-und-symbolsprach
 e
DTSTART;TZID=Europe/Berlin:20260610T150000
DTEND;TZID=Europe/Berlin:20260610T160000
END:VEVENT
END:VCALENDAR