BEGIN:VCALENDAR
VERSION:2.0
PRODID:spatie/icalendar-generator
NAME:Fachausschuss Materialographie
X-WR-CALNAME:Fachausschuss Materialographie
BEGIN:VTIMEZONE
TZID:Europe/Berlin
BEGIN:DAYLIGHT
DTSTART:20250330T010000
TZOFFSETFROM:+0100
TZOFFSETTO:+0200
END:DAYLIGHT
BEGIN:STANDARD
DTSTART:20251026T030000
TZOFFSETFROM:+0200
TZOFFSETTO:+0100
END:STANDARD
BEGIN:DAYLIGHT
DTSTART:20260329T010000
TZOFFSETFROM:+0100
TZOFFSETTO:+0200
END:DAYLIGHT
END:VTIMEZONE
BEGIN:VTIMEZONE
TZID:UTC
BEGIN:STANDARD
DTSTART:20250725T073901
TZOFFSETFROM:+0000
TZOFFSETTO:+0000
END:STANDARD
END:VTIMEZONE
BEGIN:VEVENT
UID:69e72995398ef
DTSTAMP:20260421T073901Z
SUMMARY:Fachausschuss Materialographie
DESCRIPTION:https://dgm.inventum.de/widget/preview/4093866b-f56c-4e3f-a3ac-
 542afceb90aa/6791f9724638d6791f9724638e?_LANG=de\nFachgremien-Team\nfachgr
 emien@dgm.de\n+49 (0)69 75306 750
LOCATION:Veranstaltungszentrum (VZ) der RUB\, Saal 3\, Universitätsstraße
  150\, 44801 Bochum\, Germany
URL:https://dgm.inventum.de/widget/preview/4093866b-f56c-4e3f-a3ac-542afceb
 90aa/6791f9724638d6791f9724638e?_LANG=de
DTSTART;TZID=Europe/Berlin:20251007T150000
DTEND;TZID=Europe/Berlin:20251007T170000
GEO:51.4441576;7.2609654
END:VEVENT
END:VCALENDAR